BEGIN:VCALENDAR
VERSION:2.0
PRODID:-//STEAM Academy of Warren - ECPv5.16.4//NONSGML v1.0//EN
CALSCALE:GREGORIAN
METHOD:PUBLISH
X-WR-CALNAME:STEAM Academy of Warren
X-ORIGINAL-URL:https://steamacademywarren.org
X-WR-CALDESC:Events for STEAM Academy of Warren
BEGIN:VTIMEZONE
TZID:America/New_York
BEGIN:DAYLIGHT
TZOFFSETFROM:-0500
TZOFFSETTO:-0400
TZNAME:EDT
DTSTART:20240310T070000
END:DAYLIGHT
BEGIN:STANDARD
TZOFFSETFROM:-0400
TZOFFSETTO:-0500
TZNAME:EST
DTSTART:20241103T060000
END:STANDARD
END:VTIMEZONE
BEGIN:VEVENT
DTSTART;VALUE=DATE:20241220
DTEND;VALUE=DATE:20241221
DTSTAMP:20260421T145504
CREATED:20241210T201754Z
LAST-MODIFIED:20241210T201754Z
UID:10472-1734652800-1734739199@steamacademywarren.org
SUMMARY:Santa is coming to Steam!
DESCRIPTION:Steam Students in Early Kindergarten to 3rd grade\, come to school in your holiday best dressed on December 20th because Santa is coming to Steam! (Open to Steam of Warren students only)
URL:https://steamacademywarren.org/event/santa-coming-steam/
LOCATION:STEAM Academy of Warren\, 261 Elm Road NE\, Warren\, OH\, 44483\, United States
CATEGORIES:Calendar Only,Prospective Families, Events, Home
GEO:42.3074739;-83.3097442
X-APPLE-STRUCTURED-LOCATION;VALUE=URI;X-ADDRESS=STEAM Academy of Warren 261 Elm Road NE Warren OH 44483 United States;X-APPLE-RADIUS=500;X-TITLE=261 Elm Road NE:geo:-83.3097442,42.3074739
END:VEVENT
END:VCALENDAR