BEGIN:VCALENDAR
VERSION:2.0
PRODID:-//STEAM Academy of Warren - ECPv5.16.4//NONSGML v1.0//EN
CALSCALE:GREGORIAN
METHOD:PUBLISH
X-WR-CALNAME:STEAM Academy of Warren
X-ORIGINAL-URL:https://steamacademywarren.org
X-WR-CALDESC:Events for STEAM Academy of Warren
BEGIN:VTIMEZONE
TZID:America/New_York
BEGIN:DAYLIGHT
TZOFFSETFROM:-0500
TZOFFSETTO:-0400
TZNAME:EDT
DTSTART:20250309T070000
END:DAYLIGHT
BEGIN:STANDARD
TZOFFSETFROM:-0400
TZOFFSETTO:-0500
TZNAME:EST
DTSTART:20251102T060000
END:STANDARD
END:VTIMEZONE
BEGIN:VEVENT
DTSTART;TZID=America/New_York:20250806T160000
DTEND;TZID=America/New_York:20250806T180000
DTSTAMP:20260421T150214
CREATED:20250717T135725Z
LAST-MODIFIED:20250717T135725Z
UID:10738-1754496000-1754503200@steamacademywarren.org
SUMMARY:New Families at Steam are Invited to Junk Food Jamboree
DESCRIPTION:Join us for our Junkfood Jamboree — a deliciously fun event packed with free food\, sweet treats\, salty snacks\, and good old-fashioned fun for the whole family! Meet the Principal & Deans\, tour the school and receive enrollment support. Come learn about all our school has to offer!  \nRSVP Today! steamacademywarren.org/events
URL:https://steamacademywarren.org/event/new-families-steam-invited-junk-food-jamboree/
LOCATION:STEAM Academy of Warren\, 261 Elm Road NE\, Warren\, OH\, 44483\, United States
CATEGORIES:Calendar Only,Prospective Families, Events, Home
GEO:42.3074739;-83.3097442
X-APPLE-STRUCTURED-LOCATION;VALUE=URI;X-ADDRESS=STEAM Academy of Warren 261 Elm Road NE Warren OH 44483 United States;X-APPLE-RADIUS=500;X-TITLE=261 Elm Road NE:geo:-83.3097442,42.3074739
END:VEVENT
END:VCALENDAR