BEGIN:VCALENDAR
VERSION:2.0
PRODID:-//STEAM Academy of Warren - ECPv5.16.4//NONSGML v1.0//EN
CALSCALE:GREGORIAN
METHOD:PUBLISH
X-WR-CALNAME:STEAM Academy of Warren
X-ORIGINAL-URL:https://steamacademywarren.org
X-WR-CALDESC:Events for STEAM Academy of Warren
BEGIN:VTIMEZONE
TZID:America/New_York
BEGIN:DAYLIGHT
TZOFFSETFROM:-0500
TZOFFSETTO:-0400
TZNAME:EDT
DTSTART:20240310T070000
END:DAYLIGHT
BEGIN:STANDARD
TZOFFSETFROM:-0400
TZOFFSETTO:-0500
TZNAME:EST
DTSTART:20241103T060000
END:STANDARD
END:VTIMEZONE
BEGIN:VEVENT
DTSTART;TZID=America/New_York:20240418T160000
DTEND;TZID=America/New_York:20240418T173000
DTSTAMP:20260421T163013
CREATED:20240304T175319Z
LAST-MODIFIED:20240304T175319Z
UID:9397-1713456000-1713461400@steamacademywarren.org
SUMMARY:Kindergarten Registration Night
DESCRIPTION:It’s time to register for Early K and Kindergarten! Join us to learn more about our school culture\, academics\, extracurricular programs\, and school services. Tour our campus\, meet our staff\, and preview our easy registration process! \nRSVP Today: steamacademywarren.org/events
URL:https://steamacademywarren.org/event/kindergarten-registration-night-3/
LOCATION:STEAM Academy of Warren\, 261 Elm Road NE\, Warren\, OH\, 44483\, United States
CATEGORIES:Calendar Only,Prospective Families, Events, Home
GEO:42.3074739;-83.3097442
X-APPLE-STRUCTURED-LOCATION;VALUE=URI;X-ADDRESS=STEAM Academy of Warren 261 Elm Road NE Warren OH 44483 United States;X-APPLE-RADIUS=500;X-TITLE=261 Elm Road NE:geo:-83.3097442,42.3074739
END:VEVENT
END:VCALENDAR