BEGIN:VCALENDAR
VERSION:2.0
PRODID:-//STEAM Academy of Warren - ECPv5.16.4//NONSGML v1.0//EN
CALSCALE:GREGORIAN
METHOD:PUBLISH
X-WR-CALNAME:STEAM Academy of Warren
X-ORIGINAL-URL:https://steamacademywarren.org
X-WR-CALDESC:Events for STEAM Academy of Warren
BEGIN:VTIMEZONE
TZID:America/New_York
BEGIN:DAYLIGHT
TZOFFSETFROM:-0500
TZOFFSETTO:-0400
TZNAME:EDT
DTSTART:20250309T070000
END:DAYLIGHT
BEGIN:STANDARD
TZOFFSETFROM:-0400
TZOFFSETTO:-0500
TZNAME:EST
DTSTART:20251102T060000
END:STANDARD
END:VTIMEZONE
BEGIN:VEVENT
DTSTART;TZID=America/New_York:20250724T090000
DTEND;TZID=America/New_York:20250724T113000
DTSTAMP:20260421T150631
CREATED:20250618T154249Z
LAST-MODIFIED:20250618T154249Z
UID:10689-1753347600-1753356600@steamacademywarren.org
SUMMARY:Cheer Camp
DESCRIPTION:It’s time to squad up—free and full of spirit!\nCampers learn cheers\, jumps\, dances & routines in a high-energy\, confidence-boosting setting. Each camper will receive a free t-shirt.\n• Grades K- 8\, all skill levels\n• Cheers\, stunts\, jumps & dance\n• Teamwork & confidence\n• Pre-register to receive a free T-shirt & bow\n• First come\, first served \n\nSign up today! steamacademywarren.org/summer
URL:https://steamacademywarren.org/event/cheer-camp/2025-07-24/
LOCATION:STEAM Academy of Warren\, 261 Elm Road NE\, Warren\, OH\, 44483\, United States
CATEGORIES:Calendar Only,Prospective Families, Events, Home
GEO:42.3074739;-83.3097442
X-APPLE-STRUCTURED-LOCATION;VALUE=URI;X-ADDRESS=STEAM Academy of Warren 261 Elm Road NE Warren OH 44483 United States;X-APPLE-RADIUS=500;X-TITLE=261 Elm Road NE:geo:-83.3097442,42.3074739
END:VEVENT
END:VCALENDAR