BEGIN:VCALENDAR
VERSION:2.0
PRODID:-//STEAM Academy of Warren - ECPv5.16.4//NONSGML v1.0//EN
CALSCALE:GREGORIAN
METHOD:PUBLISH
X-WR-CALNAME:STEAM Academy of Warren
X-ORIGINAL-URL:https://steamacademywarren.org
X-WR-CALDESC:Events for STEAM Academy of Warren
BEGIN:VTIMEZONE
TZID:America/New_York
BEGIN:DAYLIGHT
TZOFFSETFROM:-0500
TZOFFSETTO:-0400
TZNAME:EDT
DTSTART:20250309T070000
END:DAYLIGHT
BEGIN:STANDARD
TZOFFSETFROM:-0400
TZOFFSETTO:-0500
TZNAME:EST
DTSTART:20251102T060000
END:STANDARD
END:VTIMEZONE
BEGIN:VEVENT
DTSTART;TZID=America/New_York:20250811T170000
DTEND;TZID=America/New_York:20250811T193000
DTSTAMP:20260421T150056
CREATED:20250717T141553Z
LAST-MODIFIED:20250717T141553Z
UID:10740-1754931600-1754940600@steamacademywarren.org
SUMMARY:Back to School Bash
DESCRIPTION:The school year is about to begin & it’s not too late to enroll! Join us to celebrate the back to school season and prepare for the year ahead. Come to our BTS Bash to enjoy inflatable\, free concession trucks\, games\, meet the teachers\, and receive enrollment support. Start or finalize your enrollment paperwork with the help of our team.  \nRSVP Today! steamacademywarren.org/events
URL:https://steamacademywarren.org/event/back-school-bash-3/
LOCATION:STEAM Academy of Warren\, 261 Elm Road NE\, Warren\, OH\, 44483\, United States
CATEGORIES:Calendar Only,Prospective Families, Events, Home
GEO:42.3074739;-83.3097442
X-APPLE-STRUCTURED-LOCATION;VALUE=URI;X-ADDRESS=STEAM Academy of Warren 261 Elm Road NE Warren OH 44483 United States;X-APPLE-RADIUS=500;X-TITLE=261 Elm Road NE:geo:-83.3097442,42.3074739
END:VEVENT
END:VCALENDAR